BEGIN:VCALENDAR
VERSION:2.0
PRODID:-//LedgerMind - ECPv6.15.20//NONSGML v1.0//EN
CALSCALE:GREGORIAN
METHOD:PUBLISH
X-WR-CALNAME:LedgerMind
X-ORIGINAL-URL:http://bfishm.profreed.com
X-WR-CALDESC:Events for LedgerMind
REFRESH-INTERVAL;VALUE=DURATION:PT1H
X-Robots-Tag:noindex
X-PUBLISHED-TTL:PT1H
BEGIN:VTIMEZONE
TZID:America/Los_Angeles
BEGIN:DAYLIGHT
TZOFFSETFROM:-0800
TZOFFSETTO:-0700
TZNAME:PDT
DTSTART:20250309T100000
END:DAYLIGHT
BEGIN:STANDARD
TZOFFSETFROM:-0700
TZOFFSETTO:-0800
TZNAME:PST
DTSTART:20251102T090000
END:STANDARD
BEGIN:DAYLIGHT
TZOFFSETFROM:-0800
TZOFFSETTO:-0700
TZNAME:PDT
DTSTART:20260308T100000
END:DAYLIGHT
BEGIN:STANDARD
TZOFFSETFROM:-0700
TZOFFSETTO:-0800
TZNAME:PST
DTSTART:20261101T090000
END:STANDARD
BEGIN:DAYLIGHT
TZOFFSETFROM:-0800
TZOFFSETTO:-0700
TZNAME:PDT
DTSTART:20270314T100000
END:DAYLIGHT
BEGIN:STANDARD
TZOFFSETFROM:-0700
TZOFFSETTO:-0800
TZNAME:PST
DTSTART:20271107T090000
END:STANDARD
END:VTIMEZONE
BEGIN:VEVENT
DTSTART;TZID=America/Los_Angeles:20260415T080000
DTEND;TZID=America/Los_Angeles:20260415T170000
DTSTAMP:20260423T212844
CREATED:20260415T222832Z
LAST-MODIFIED:20260415T222832Z
UID:94-1776240000-1776272400@bfishm.profreed.com
SUMMARY:Startup Pitch & Finance Night
DESCRIPTION:LedgerMind: Startup Pitch & Finance Night \nJoin LedgerMind for an exciting night of innovation\, ideas\, and financial insight. Startup Pitch & Finance Night brings together ambitious students and aspiring entrepreneurs to present their business ideas and receive real-time feedback focused on what truly matters—financial viability. \nParticipants will pitch their concepts in a fast-paced format\, followed by questions and discussion centered around revenue models\, cost structures\, scalability\, and long-term sustainability. Whether you’re presenting or attending\, you’ll gain valuable exposure to how strong financial thinking shapes successful ventures. \nThis event is perfect for anyone interested in entrepreneurship\, finance\, or building something of their own. Come ready to share ideas\, challenge assumptions\, and connect with others who are driven to think smarter about business. \nTrusted records. Smarter decisions.
URL:http://bfishm.profreed.com/event/startup-pitch-finance-night/
END:VEVENT
END:VCALENDAR