BEGIN:VCALENDAR
VERSION:2.0
PRODID:-//LedgerMind - ECPv6.15.20//NONSGML v1.0//EN
CALSCALE:GREGORIAN
METHOD:PUBLISH
X-WR-CALNAME:LedgerMind
X-ORIGINAL-URL:http://bfishm.profreed.com
X-WR-CALDESC:Events for LedgerMind
REFRESH-INTERVAL;VALUE=DURATION:PT1H
X-Robots-Tag:noindex
X-PUBLISHED-TTL:PT1H
BEGIN:VTIMEZONE
TZID:America/Los_Angeles
BEGIN:DAYLIGHT
TZOFFSETFROM:-0800
TZOFFSETTO:-0700
TZNAME:PDT
DTSTART:20250309T100000
END:DAYLIGHT
BEGIN:STANDARD
TZOFFSETFROM:-0700
TZOFFSETTO:-0800
TZNAME:PST
DTSTART:20251102T090000
END:STANDARD
BEGIN:DAYLIGHT
TZOFFSETFROM:-0800
TZOFFSETTO:-0700
TZNAME:PDT
DTSTART:20260308T100000
END:DAYLIGHT
BEGIN:STANDARD
TZOFFSETFROM:-0700
TZOFFSETTO:-0800
TZNAME:PST
DTSTART:20261101T090000
END:STANDARD
BEGIN:DAYLIGHT
TZOFFSETFROM:-0800
TZOFFSETTO:-0700
TZNAME:PDT
DTSTART:20270314T100000
END:DAYLIGHT
BEGIN:STANDARD
TZOFFSETFROM:-0700
TZOFFSETTO:-0800
TZNAME:PST
DTSTART:20271107T090000
END:STANDARD
END:VTIMEZONE
BEGIN:VEVENT
DTSTART;TZID=America/Los_Angeles:20260515T140000
DTEND;TZID=America/Los_Angeles:20260515T170000
DTSTAMP:20260424T000332
CREATED:20260415T222440Z
LAST-MODIFIED:20260415T222440Z
UID:89-1778853600-1778864400@bfishm.profreed.com
SUMMARY:Networking Event
DESCRIPTION:LedgerMind Networking Event \nJoin us for an exclusive LedgerMind networking event where innovation meets opportunity. This gathering brings together students\, young professionals\, and industry leaders interested in finance\, technology\, and data-driven decision making. \nAt LedgerMind\, we believe in smarter financial thinking and meaningful connections. This event is designed to give attendees the chance to expand their network\, exchange ideas\, and explore how modern tools and insights are shaping the future of finance. \nExpect a relaxed\, professional environment with opportunities to: \nConnect with like-minded individuals\nLearn about emerging trends in finance and technology\nBuild relationships that can support your career growth \nWhether you’re looking to break into the industry or expand your professional circle\, this event is your chance to engage with the LedgerMind community. \nTrusted records. Smarter decisions.
URL:http://bfishm.profreed.com/event/networking-event/
END:VEVENT
BEGIN:VEVENT
DTSTART;TZID=America/Los_Angeles:20260522T140000
DTEND;TZID=America/Los_Angeles:20260522T170000
DTSTAMP:20260424T000332
CREATED:20260415T222630Z
LAST-MODIFIED:20260415T222630Z
UID:91-1779458400-1779469200@bfishm.profreed.com
SUMMARY:Finance Workshop
DESCRIPTION:LedgerMind: Financial Strategy Workshop \nJoin LedgerMind for a hands-on Financial Strategy Workshop designed to help you think smarter about business and money. This session focuses on breaking down real-world financial scenarios and teaching practical skills you can apply immediately. \nAttendees will learn how to analyze revenue\, costs\, and profitability while exploring simple forecasting techniques used to guide business decisions. Through interactive examples\, we’ll show how data and modern tools can be used to improve financial performance and planning. \nThis workshop is ideal for students and aspiring professionals looking to build a strong foundation in financial thinking\, whether you’re interested in business\, finance\, or entrepreneurship. \nCome ready to learn\, participate\, and walk away with skills that translate directly into real-world impact. \nTrusted records. Smarter decisions.
URL:http://bfishm.profreed.com/event/finance-workshop/
END:VEVENT
END:VCALENDAR